BEGIN:VCALENDAR
PRODID:-//eluceo/ical//2.0/EN
VERSION:2.0
CALSCALE:GREGORIAN
BEGIN:VEVENT
UID:1b43e968755b04dcce2b4a2d2bd8797d
DTSTAMP:20260425T215449Z
SUMMARY:Tajemství sýkorek
DTSTART;TZID=Europe/Prague:20260502T150000
DTEND;TZID=Europe/Prague:20260502T161700
LOCATION:Kino Aero
END:VEVENT
END:VCALENDAR
BEGIN:VCALENDAR
PRODID:-//eluceo/ical//2.0/EN
VERSION:2.0
CALSCALE:GREGORIAN
BEGIN:VEVENT
UID:4582e1cf093faf28e9e924cee8090022
DTSTAMP:20260425T215449Z
SUMMARY:Tajemství sýkorek
DTSTART;TZID=Europe/Prague:20260502T150000
DTEND;TZID=Europe/Prague:20260502T161700
LOCATION:Kino Aero
END:VEVENT
END:VCALENDAR
