BEGIN:VCALENDAR
PRODID:-//eluceo/ical//2.0/EN
VERSION:2.0
CALSCALE:GREGORIAN
BEGIN:VEVENT
UID:968c8545744584c3ff8d3141ea5ea778
DTSTAMP:20260424T155944Z
SUMMARY:Šampión
DTSTART;TZID=Europe/Prague:20260519T130000
DTEND;TZID=Europe/Prague:20260519T143000
LOCATION:Bio Oko
END:VEVENT
END:VCALENDAR
BEGIN:VCALENDAR
PRODID:-//eluceo/ical//2.0/EN
VERSION:2.0
CALSCALE:GREGORIAN
BEGIN:VEVENT
UID:5d0b65b718b9ef0bb50d85fbfd653642
DTSTAMP:20260424T155944Z
SUMMARY:Šampión
DTSTART;TZID=Europe/Prague:20260519T130000
DTEND;TZID=Europe/Prague:20260519T143000
LOCATION:Bio Oko
END:VEVENT
END:VCALENDAR
