BEGIN:VCALENDAR
PRODID:-//eluceo/ical//2.0/EN
VERSION:2.0
CALSCALE:GREGORIAN
BEGIN:VEVENT
UID:85b7cc8cab15e54b3a39fac9c3009529
DTSTAMP:20260424T161114Z
SUMMARY:Šepot lesa
DTSTART;TZID=Europe/Prague:20260514T150000
DTEND;TZID=Europe/Prague:20260514T163500
LOCATION:Bio Oko
END:VEVENT
END:VCALENDAR
BEGIN:VCALENDAR
PRODID:-//eluceo/ical//2.0/EN
VERSION:2.0
CALSCALE:GREGORIAN
BEGIN:VEVENT
UID:8ef87b92fbfe182ac7f0ed12d3e79d2c
DTSTAMP:20260424T161114Z
SUMMARY:Šepot lesa
DTSTART;TZID=Europe/Prague:20260514T150000
DTEND;TZID=Europe/Prague:20260514T163500
LOCATION:Bio Oko
END:VEVENT
END:VCALENDAR
