BEGIN:VCALENDAR
PRODID:-//eluceo/ical//2.0/EN
VERSION:2.0
CALSCALE:GREGORIAN
BEGIN:VEVENT
UID:9cbcb199e75e8a6ac8f2ddc8a5d242c9
DTSTAMP:20260424T160226Z
SUMMARY:Neboj\, dýchej\, čaruj
DTSTART;TZID=Europe/Prague:20260504T174500
DTEND;TZID=Europe/Prague:20260504T192300
LOCATION:Kino Světozor
END:VEVENT
END:VCALENDAR
BEGIN:VCALENDAR
PRODID:-//eluceo/ical//2.0/EN
VERSION:2.0
CALSCALE:GREGORIAN
BEGIN:VEVENT
UID:2e55c8a99cbe61dd12e41d7da123872d
DTSTAMP:20260424T160226Z
SUMMARY:Neboj\, dýchej\, čaruj
DTSTART;TZID=Europe/Prague:20260504T174500
DTEND;TZID=Europe/Prague:20260504T192300
LOCATION:Kino Světozor
END:VEVENT
END:VCALENDAR
