BEGIN:VCALENDAR
PRODID:-//eluceo/ical//2.0/EN
VERSION:2.0
CALSCALE:GREGORIAN
BEGIN:VEVENT
UID:76304bf1240493a56e4c33c10e3a0230
DTSTAMP:20260425T214957Z
SUMMARY:Tajemství sýkorek
DTSTART;TZID=Europe/Prague:20260502T100000
DTEND;TZID=Europe/Prague:20260502T111700
LOCATION:Bio Oko
END:VEVENT
END:VCALENDAR
BEGIN:VCALENDAR
PRODID:-//eluceo/ical//2.0/EN
VERSION:2.0
CALSCALE:GREGORIAN
BEGIN:VEVENT
UID:87070ccb532500fb79d80ed8a45d9c75
DTSTAMP:20260425T214957Z
SUMMARY:Tajemství sýkorek
DTSTART;TZID=Europe/Prague:20260502T100000
DTEND;TZID=Europe/Prague:20260502T111700
LOCATION:Bio Oko
END:VEVENT
END:VCALENDAR
