BEGIN:VCALENDAR
PRODID:-//eluceo/ical//2.0/EN
VERSION:2.0
CALSCALE:GREGORIAN
BEGIN:VEVENT
UID:a4f25966bb87eb4687999fd95fe31427
DTSTAMP:20260425T215045Z
SUMMARY:Tajemství sýkorek
DTSTART;TZID=Europe/Prague:20260502T153000
DTEND;TZID=Europe/Prague:20260502T164700
LOCATION:Bio Central
END:VEVENT
END:VCALENDAR
BEGIN:VCALENDAR
PRODID:-//eluceo/ical//2.0/EN
VERSION:2.0
CALSCALE:GREGORIAN
BEGIN:VEVENT
UID:822ea616ca3fcfbd1116cd6328135661
DTSTAMP:20260425T215045Z
SUMMARY:Tajemství sýkorek
DTSTART;TZID=Europe/Prague:20260502T153000
DTEND;TZID=Europe/Prague:20260502T164700
LOCATION:Bio Central
END:VEVENT
END:VCALENDAR
