BEGIN:VCALENDAR
PRODID:-//eluceo/ical//2.0/EN
VERSION:2.0
CALSCALE:GREGORIAN
BEGIN:VEVENT
UID:642be0c8309d26a4f621404a7354d919
DTSTAMP:20260421T172050Z
SUMMARY:Ďábel nosí Pradu 2
DTSTART;TZID=Europe/Prague:20260502T203000
DTEND;TZID=Europe/Prague:20260502T223000
LOCATION:Kino Přítomnost
END:VEVENT
END:VCALENDAR
BEGIN:VCALENDAR
PRODID:-//eluceo/ical//2.0/EN
VERSION:2.0
CALSCALE:GREGORIAN
BEGIN:VEVENT
UID:7a870e37959d6d2fdc0d64ab8f947b9c
DTSTAMP:20260421T172050Z
SUMMARY:Ďábel nosí Pradu 2
DTSTART;TZID=Europe/Prague:20260502T203000
DTEND;TZID=Europe/Prague:20260502T223000
LOCATION:Kino Přítomnost
END:VEVENT
END:VCALENDAR
