BEGIN:VCALENDAR
PRODID:-//eluceo/ical//2.0/EN
VERSION:2.0
CALSCALE:GREGORIAN
BEGIN:VEVENT
UID:73c7839b0c8fbeaf82e64037a33b0d49
DTSTAMP:20260421T173559Z
SUMMARY:Kdybych měla nohy\, tak ti nakopu
DTSTART;TZID=Europe/Prague:20260502T173000
DTEND;TZID=Europe/Prague:20260502T192300
LOCATION:Kino Přítomnost
END:VEVENT
END:VCALENDAR
BEGIN:VCALENDAR
PRODID:-//eluceo/ical//2.0/EN
VERSION:2.0
CALSCALE:GREGORIAN
BEGIN:VEVENT
UID:d479db6666da8df32e0fed6ac11ecbd0
DTSTAMP:20260421T173559Z
SUMMARY:Kdybych měla nohy\, tak ti nakopu
DTSTART;TZID=Europe/Prague:20260502T173000
DTEND;TZID=Europe/Prague:20260502T192300
LOCATION:Kino Přítomnost
END:VEVENT
END:VCALENDAR
