BEGIN:VCALENDAR
PRODID:-//eluceo/ical//2.0/EN
VERSION:2.0
CALSCALE:GREGORIAN
BEGIN:VEVENT
UID:a34407f57a806d2e7856deeb53ab4d1b
DTSTAMP:20260420T182056Z
SUMMARY:Co nám zbylo z lásky
DTSTART;TZID=Europe/Prague:20260513T180000
DTEND;TZID=Europe/Prague:20260513T194900
LOCATION:Bio Oko
END:VEVENT
END:VCALENDAR
BEGIN:VCALENDAR
PRODID:-//eluceo/ical//2.0/EN
VERSION:2.0
CALSCALE:GREGORIAN
BEGIN:VEVENT
UID:6a5d297326b80d5a3d6f1ceca2285d64
DTSTAMP:20260420T182056Z
SUMMARY:Co nám zbylo z lásky
DTSTART;TZID=Europe/Prague:20260513T180000
DTEND;TZID=Europe/Prague:20260513T194900
LOCATION:Bio Oko
END:VEVENT
END:VCALENDAR
