BEGIN:VCALENDAR
PRODID:-//eluceo/ical//2.0/EN
VERSION:2.0
CALSCALE:GREGORIAN
BEGIN:VEVENT
UID:faedb52465bda021fbd99ec042b7335a
DTSTAMP:20260421T172334Z
SUMMARY:Ďábel nosí Pradu 2
DTSTART;TZID=Europe/Prague:20260501T180000
DTEND;TZID=Europe/Prague:20260501T200000
LOCATION:Kino Lucerna
END:VEVENT
END:VCALENDAR
BEGIN:VCALENDAR
PRODID:-//eluceo/ical//2.0/EN
VERSION:2.0
CALSCALE:GREGORIAN
BEGIN:VEVENT
UID:444984b0b21024b70323e4fbc462b13a
DTSTAMP:20260421T172334Z
SUMMARY:Ďábel nosí Pradu 2
DTSTART;TZID=Europe/Prague:20260501T180000
DTEND;TZID=Europe/Prague:20260501T200000
LOCATION:Kino Lucerna
END:VEVENT
END:VCALENDAR
