BEGIN:VCALENDAR
PRODID:-//eluceo/ical//2.0/EN
VERSION:2.0
CALSCALE:GREGORIAN
BEGIN:VEVENT
UID:7c7a1b5977bd66b34504da70e949eeff
DTSTAMP:20260421T173010Z
SUMMARY:Kdybych měla nohy\, tak ti nakopu
DTSTART;TZID=Europe/Prague:20260528T133000
DTEND;TZID=Europe/Prague:20260528T152300
LOCATION:Kino Aero
END:VEVENT
END:VCALENDAR
BEGIN:VCALENDAR
PRODID:-//eluceo/ical//2.0/EN
VERSION:2.0
CALSCALE:GREGORIAN
BEGIN:VEVENT
UID:e804f5f05b2d392fdcc4a4fe6a7b0eb3
DTSTAMP:20260421T173010Z
SUMMARY:Kdybych měla nohy\, tak ti nakopu
DTSTART;TZID=Europe/Prague:20260528T133000
DTEND;TZID=Europe/Prague:20260528T152300
LOCATION:Kino Aero
END:VEVENT
END:VCALENDAR
