BEGIN:VCALENDAR
PRODID:-//eluceo/ical//2.0/EN
VERSION:2.0
CALSCALE:GREGORIAN
BEGIN:VEVENT
UID:0cdb171a76bca3ce0fed8e8b6af1f1a6
DTSTAMP:20260424T160048Z
SUMMARY:Šampión
DTSTART;TZID=Europe/Prague:20260505T150000
DTEND;TZID=Europe/Prague:20260505T163000
LOCATION:Kino Aero
END:VEVENT
END:VCALENDAR
BEGIN:VCALENDAR
PRODID:-//eluceo/ical//2.0/EN
VERSION:2.0
CALSCALE:GREGORIAN
BEGIN:VEVENT
UID:200e81a3dcbbebbb7536f95ac9a1b6df
DTSTAMP:20260424T160048Z
SUMMARY:Šampión
DTSTART;TZID=Europe/Prague:20260505T150000
DTEND;TZID=Europe/Prague:20260505T163000
LOCATION:Kino Aero
END:VEVENT
END:VCALENDAR
