BEGIN:VCALENDAR
PRODID:-//eluceo/ical//2.0/EN
VERSION:2.0
CALSCALE:GREGORIAN
BEGIN:VEVENT
UID:beefbc6b7dcb19abcb82583316b4450b
DTSTAMP:20260421T173717Z
SUMMARY:Kdybych měla nohy\, tak ti nakopu
DTSTART;TZID=Europe/Prague:20260425T180000
DTEND;TZID=Europe/Prague:20260425T195300
LOCATION:Kino Světozor
END:VEVENT
END:VCALENDAR
BEGIN:VCALENDAR
PRODID:-//eluceo/ical//2.0/EN
VERSION:2.0
CALSCALE:GREGORIAN
BEGIN:VEVENT
UID:99738d14b10a775f914a8a4bc3b3b667
DTSTAMP:20260421T173717Z
SUMMARY:Kdybych měla nohy\, tak ti nakopu
DTSTART;TZID=Europe/Prague:20260425T180000
DTEND;TZID=Europe/Prague:20260425T195300
LOCATION:Kino Světozor
END:VEVENT
END:VCALENDAR
