BEGIN:VCALENDAR
PRODID:-//eluceo/ical//2.0/EN
VERSION:2.0
CALSCALE:GREGORIAN
BEGIN:VEVENT
UID:c8f4850a1a9a976c9e807eef8d5b8537
DTSTAMP:20260421T172826Z
SUMMARY:Kdybych měla nohy\, tak ti nakopu
DTSTART;TZID=Europe/Prague:20260424T180000
DTEND;TZID=Europe/Prague:20260424T195300
LOCATION:Kino Světozor
END:VEVENT
END:VCALENDAR
BEGIN:VCALENDAR
PRODID:-//eluceo/ical//2.0/EN
VERSION:2.0
CALSCALE:GREGORIAN
BEGIN:VEVENT
UID:857c6c089efbe668d8bfcd724cfd380a
DTSTAMP:20260421T172826Z
SUMMARY:Kdybych měla nohy\, tak ti nakopu
DTSTART;TZID=Europe/Prague:20260424T180000
DTEND;TZID=Europe/Prague:20260424T195300
LOCATION:Kino Světozor
END:VEVENT
END:VCALENDAR
