BEGIN:VCALENDAR
PRODID:-//eluceo/ical//2.0/EN
VERSION:2.0
CALSCALE:GREGORIAN
BEGIN:VEVENT
UID:2e5bb5fc3602c7a081de6e4985e68a12
DTSTAMP:20260421T173307Z
SUMMARY:Kdybych měla nohy\, tak ti nakopu
DTSTART;TZID=Europe/Prague:20260429T153000
DTEND;TZID=Europe/Prague:20260429T172300
LOCATION:Kino Světozor
END:VEVENT
END:VCALENDAR
BEGIN:VCALENDAR
PRODID:-//eluceo/ical//2.0/EN
VERSION:2.0
CALSCALE:GREGORIAN
BEGIN:VEVENT
UID:bc232c810f9a17516d79cc59438df8fd
DTSTAMP:20260421T173307Z
SUMMARY:Kdybych měla nohy\, tak ti nakopu
DTSTART;TZID=Europe/Prague:20260429T153000
DTEND;TZID=Europe/Prague:20260429T172300
LOCATION:Kino Světozor
END:VEVENT
END:VCALENDAR
