BEGIN:VCALENDAR
PRODID:-//eluceo/ical//2.0/EN
VERSION:2.0
CALSCALE:GREGORIAN
BEGIN:VEVENT
UID:f88e6f5aa610e03cde069970a26e50b0
DTSTAMP:20260421T173804Z
SUMMARY:Kdybych měla nohy\, tak ti nakopu
DTSTART;TZID=Europe/Prague:20260428T151500
DTEND;TZID=Europe/Prague:20260428T170800
LOCATION:Kino Světozor
END:VEVENT
END:VCALENDAR
BEGIN:VCALENDAR
PRODID:-//eluceo/ical//2.0/EN
VERSION:2.0
CALSCALE:GREGORIAN
BEGIN:VEVENT
UID:3cd4c2bb4f4418ffdcda2ef1f1007d27
DTSTAMP:20260421T173804Z
SUMMARY:Kdybych měla nohy\, tak ti nakopu
DTSTART;TZID=Europe/Prague:20260428T151500
DTEND;TZID=Europe/Prague:20260428T170800
LOCATION:Kino Světozor
END:VEVENT
END:VCALENDAR
