BEGIN:VCALENDAR
PRODID:-//eluceo/ical//2.0/EN
VERSION:2.0
CALSCALE:GREGORIAN
BEGIN:VEVENT
UID:83ce2cd2f824825e65bfea47edb6bcd3
DTSTAMP:20260421T173727Z
SUMMARY:Kdybych měla nohy\, tak ti nakopu
DTSTART;TZID=Europe/Prague:20260423T174500
DTEND;TZID=Europe/Prague:20260423T193800
LOCATION:Kino Světozor
END:VEVENT
END:VCALENDAR
BEGIN:VCALENDAR
PRODID:-//eluceo/ical//2.0/EN
VERSION:2.0
CALSCALE:GREGORIAN
BEGIN:VEVENT
UID:3985a4ec6f817790dabc1c4b8095a533
DTSTAMP:20260421T173727Z
SUMMARY:Kdybych měla nohy\, tak ti nakopu
DTSTART;TZID=Europe/Prague:20260423T174500
DTEND;TZID=Europe/Prague:20260423T193800
LOCATION:Kino Světozor
END:VEVENT
END:VCALENDAR
