BEGIN:VCALENDAR
PRODID:-//eluceo/ical//2.0/EN
VERSION:2.0
CALSCALE:GREGORIAN
BEGIN:VEVENT
UID:5347622970cd4cc7eed96a4dd2ccf2c8
DTSTAMP:20260421T173626Z
SUMMARY:Kdybych měla nohy\, tak ti nakopu
DTSTART;TZID=Europe/Prague:20260427T153000
DTEND;TZID=Europe/Prague:20260427T172300
LOCATION:Kino Lucerna
END:VEVENT
END:VCALENDAR
BEGIN:VCALENDAR
PRODID:-//eluceo/ical//2.0/EN
VERSION:2.0
CALSCALE:GREGORIAN
BEGIN:VEVENT
UID:63337e826759b6857860e2b237b0d9a0
DTSTAMP:20260421T173626Z
SUMMARY:Kdybych měla nohy\, tak ti nakopu
DTSTART;TZID=Europe/Prague:20260427T153000
DTEND;TZID=Europe/Prague:20260427T172300
LOCATION:Kino Lucerna
END:VEVENT
END:VCALENDAR
