BEGIN:VCALENDAR
PRODID:-//eluceo/ical//2.0/EN
VERSION:2.0
CALSCALE:GREGORIAN
BEGIN:VEVENT
UID:cafa7f20d74131b0514f4d97abe5cd48
DTSTAMP:20260424T160053Z
SUMMARY:Šampión
DTSTART;TZID=Europe/Prague:20260427T151500
DTEND;TZID=Europe/Prague:20260427T164500
LOCATION:Kino Lucerna
END:VEVENT
END:VCALENDAR
BEGIN:VCALENDAR
PRODID:-//eluceo/ical//2.0/EN
VERSION:2.0
CALSCALE:GREGORIAN
BEGIN:VEVENT
UID:5b580cc4da8746604f3b517b9c105c02
DTSTAMP:20260424T160053Z
SUMMARY:Šampión
DTSTART;TZID=Europe/Prague:20260427T151500
DTEND;TZID=Europe/Prague:20260427T164500
LOCATION:Kino Lucerna
END:VEVENT
END:VCALENDAR
