BEGIN:VCALENDAR
PRODID:-//eluceo/ical//2.0/EN
VERSION:2.0
CALSCALE:GREGORIAN
BEGIN:VEVENT
UID:6be814c56e604ea2c7f970a3cbfde488
DTSTAMP:20260420T182429Z
SUMMARY:Audience | NT Live
DTSTART;TZID=Europe/Prague:20260512T203000
DTEND;TZID=Europe/Prague:20260512T225800
LOCATION:Kino Aero
END:VEVENT
END:VCALENDAR
BEGIN:VCALENDAR
PRODID:-//eluceo/ical//2.0/EN
VERSION:2.0
CALSCALE:GREGORIAN
BEGIN:VEVENT
UID:6c0bbd25bab29c9f96436e2e4edd6afb
DTSTAMP:20260420T182429Z
SUMMARY:Audience | NT Live
DTSTART;TZID=Europe/Prague:20260512T203000
DTEND;TZID=Europe/Prague:20260512T225800
LOCATION:Kino Aero
END:VEVENT
END:VCALENDAR
