BEGIN:VCALENDAR
PRODID:-//eluceo/ical//2.0/EN
VERSION:2.0
CALSCALE:GREGORIAN
BEGIN:VEVENT
UID:552d85feda6430b3e5f9078134e537c2
DTSTAMP:20260421T173016Z
SUMMARY:Kdybych měla nohy\, tak ti nakopu
DTSTART;TZID=Europe/Prague:20260425T113000
DTEND;TZID=Europe/Prague:20260425T132300
LOCATION:Bio Oko
END:VEVENT
END:VCALENDAR
BEGIN:VCALENDAR
PRODID:-//eluceo/ical//2.0/EN
VERSION:2.0
CALSCALE:GREGORIAN
BEGIN:VEVENT
UID:3a509e7690a99336db9b5440e0bbe31d
DTSTAMP:20260421T173016Z
SUMMARY:Kdybych měla nohy\, tak ti nakopu
DTSTART;TZID=Europe/Prague:20260425T113000
DTEND;TZID=Europe/Prague:20260425T132300
LOCATION:Bio Oko
END:VEVENT
END:VCALENDAR
