BEGIN:VCALENDAR
PRODID:-//eluceo/ical//2.0/EN
VERSION:2.0
CALSCALE:GREGORIAN
BEGIN:VEVENT
UID:d0c7d5bafce25b1e8e0914750e774402
DTSTAMP:20260422T162437Z
SUMMARY:Kill Bill: The Whole Bloody Affair
DTSTART;TZID=Europe/Prague:20260425T181000
DTEND;TZID=Europe/Prague:20260425T224500
LOCATION:Bio Oko
END:VEVENT
END:VCALENDAR
BEGIN:VCALENDAR
PRODID:-//eluceo/ical//2.0/EN
VERSION:2.0
CALSCALE:GREGORIAN
BEGIN:VEVENT
UID:6633364951f1cac7718742ad43f437d4
DTSTAMP:20260422T162437Z
SUMMARY:Kill Bill: The Whole Bloody Affair
DTSTART;TZID=Europe/Prague:20260425T181000
DTEND;TZID=Europe/Prague:20260425T224500
LOCATION:Bio Oko
END:VEVENT
END:VCALENDAR
