BEGIN:VCALENDAR
PRODID:-//eluceo/ical//2.0/EN
VERSION:2.0
CALSCALE:GREGORIAN
BEGIN:VEVENT
UID:42eb5cce1c2fe3fd920ed052b1dd422c
DTSTAMP:20260421T172212Z
SUMMARY:Ďábel nosí Pradu 2
DTSTART;TZID=Europe/Prague:20260506T173000
DTEND;TZID=Europe/Prague:20260506T193000
LOCATION:Kino Světozor
END:VEVENT
END:VCALENDAR
BEGIN:VCALENDAR
PRODID:-//eluceo/ical//2.0/EN
VERSION:2.0
CALSCALE:GREGORIAN
BEGIN:VEVENT
UID:4938ca43bc7616609b9b6af237e83b41
DTSTAMP:20260421T172212Z
SUMMARY:Ďábel nosí Pradu 2
DTSTART;TZID=Europe/Prague:20260506T173000
DTEND;TZID=Europe/Prague:20260506T193000
LOCATION:Kino Světozor
END:VEVENT
END:VCALENDAR
