BEGIN:VCALENDAR
PRODID:-//eluceo/ical//2.0/EN
VERSION:2.0
CALSCALE:GREGORIAN
BEGIN:VEVENT
UID:8bbff119ad2992ea448a61c11b495bc6
DTSTAMP:20260421T172334Z
SUMMARY:Ďábel nosí Pradu 2
DTSTART;TZID=Europe/Prague:20260505T180000
DTEND;TZID=Europe/Prague:20260505T200000
LOCATION:Kino Světozor
END:VEVENT
END:VCALENDAR
BEGIN:VCALENDAR
PRODID:-//eluceo/ical//2.0/EN
VERSION:2.0
CALSCALE:GREGORIAN
BEGIN:VEVENT
UID:77c19d2dfca1fa1bfd3ec7663dd8d16a
DTSTAMP:20260421T172334Z
SUMMARY:Ďábel nosí Pradu 2
DTSTART;TZID=Europe/Prague:20260505T180000
DTEND;TZID=Europe/Prague:20260505T200000
LOCATION:Kino Světozor
END:VEVENT
END:VCALENDAR
