BEGIN:VCALENDAR
PRODID:-//eluceo/ical//2.0/EN
VERSION:2.0
CALSCALE:GREGORIAN
BEGIN:VEVENT
UID:08c86396bf581553068f3c67e9b913f0
DTSTAMP:20260421T172159Z
SUMMARY:Ďábel nosí Pradu 2
DTSTART;TZID=Europe/Prague:20260503T180000
DTEND;TZID=Europe/Prague:20260503T200000
LOCATION:Kino Světozor
END:VEVENT
END:VCALENDAR
BEGIN:VCALENDAR
PRODID:-//eluceo/ical//2.0/EN
VERSION:2.0
CALSCALE:GREGORIAN
BEGIN:VEVENT
UID:f6f49055199092de3b4a50869c4fdbbb
DTSTAMP:20260421T172159Z
SUMMARY:Ďábel nosí Pradu 2
DTSTART;TZID=Europe/Prague:20260503T180000
DTEND;TZID=Europe/Prague:20260503T200000
LOCATION:Kino Světozor
END:VEVENT
END:VCALENDAR
