BEGIN:VCALENDAR
PRODID:-//eluceo/ical//2.0/EN
VERSION:2.0
CALSCALE:GREGORIAN
BEGIN:VEVENT
UID:de8d0cb58d1fbbb7e021163e6772c54b
DTSTAMP:20260421T172927Z
SUMMARY:Kdybych měla nohy\, tak ti nakopu
DTSTART;TZID=Europe/Prague:20260426T151500
DTEND;TZID=Europe/Prague:20260426T170800
LOCATION:Kino Lucerna
END:VEVENT
END:VCALENDAR
BEGIN:VCALENDAR
PRODID:-//eluceo/ical//2.0/EN
VERSION:2.0
CALSCALE:GREGORIAN
BEGIN:VEVENT
UID:88f2af86b3bfa1dba0c8316cbe87b6e1
DTSTAMP:20260421T172927Z
SUMMARY:Kdybych měla nohy\, tak ti nakopu
DTSTART;TZID=Europe/Prague:20260426T151500
DTEND;TZID=Europe/Prague:20260426T170800
LOCATION:Kino Lucerna
END:VEVENT
END:VCALENDAR
