BEGIN:VCALENDAR
PRODID:-//eluceo/ical//2.0/EN
VERSION:2.0
CALSCALE:GREGORIAN
BEGIN:VEVENT
UID:789ab80b79632591e46396320e96ea01
DTSTAMP:20260421T173430Z
SUMMARY:Kdybych měla nohy\, tak ti nakopu
DTSTART;TZID=Europe/Prague:20260425T201500
DTEND;TZID=Europe/Prague:20260425T220800
LOCATION:Kino Lucerna
END:VEVENT
END:VCALENDAR
BEGIN:VCALENDAR
PRODID:-//eluceo/ical//2.0/EN
VERSION:2.0
CALSCALE:GREGORIAN
BEGIN:VEVENT
UID:a638413c6361b1cc1ad65f4851a2feba
DTSTAMP:20260421T173430Z
SUMMARY:Kdybych měla nohy\, tak ti nakopu
DTSTART;TZID=Europe/Prague:20260425T201500
DTEND;TZID=Europe/Prague:20260425T220800
LOCATION:Kino Lucerna
END:VEVENT
END:VCALENDAR
