BEGIN:VCALENDAR
PRODID:-//eluceo/ical//2.0/EN
VERSION:2.0
CALSCALE:GREGORIAN
BEGIN:VEVENT
UID:f7dced62803e13b926b63446797970a2
DTSTAMP:20260420T182056Z
SUMMARY:Co nám zbylo z lásky
DTSTART;TZID=Europe/Prague:20260528T150000
DTEND;TZID=Europe/Prague:20260528T164900
LOCATION:Kino Světozor
END:VEVENT
END:VCALENDAR
BEGIN:VCALENDAR
PRODID:-//eluceo/ical//2.0/EN
VERSION:2.0
CALSCALE:GREGORIAN
BEGIN:VEVENT
UID:be590ac26538c034984eb107711ae0ea
DTSTAMP:20260420T182056Z
SUMMARY:Co nám zbylo z lásky
DTSTART;TZID=Europe/Prague:20260528T150000
DTEND;TZID=Europe/Prague:20260528T164900
LOCATION:Kino Světozor
END:VEVENT
END:VCALENDAR
