BEGIN:VCALENDAR
PRODID:-//eluceo/ical//2.0/EN
VERSION:2.0
CALSCALE:GREGORIAN
BEGIN:VEVENT
UID:b7b0ce4c1673ca03247ad0bc8a95a980
DTSTAMP:20260421T172826Z
SUMMARY:Kdybych měla nohy\, tak ti nakopu
DTSTART;TZID=Europe/Prague:20260521T150000
DTEND;TZID=Europe/Prague:20260521T165300
LOCATION:Kino Světozor
END:VEVENT
END:VCALENDAR
BEGIN:VCALENDAR
PRODID:-//eluceo/ical//2.0/EN
VERSION:2.0
CALSCALE:GREGORIAN
BEGIN:VEVENT
UID:ba0f305e842b433d7e8871eb2871ad51
DTSTAMP:20260421T172826Z
SUMMARY:Kdybych měla nohy\, tak ti nakopu
DTSTART;TZID=Europe/Prague:20260521T150000
DTEND;TZID=Europe/Prague:20260521T165300
LOCATION:Kino Světozor
END:VEVENT
END:VCALENDAR
