BEGIN:VCALENDAR
PRODID:-//eluceo/ical//2.0/EN
VERSION:2.0
CALSCALE:GREGORIAN
BEGIN:VEVENT
UID:bb27f984fd0e3cee6a5fa8c5793583ca
DTSTAMP:20260424T160206Z
SUMMARY:Neboj\, dýchej\, čaruj
DTSTART;TZID=Europe/Prague:20260522T130000
DTEND;TZID=Europe/Prague:20260522T143800
LOCATION:Kino Lucerna
END:VEVENT
END:VCALENDAR
BEGIN:VCALENDAR
PRODID:-//eluceo/ical//2.0/EN
VERSION:2.0
CALSCALE:GREGORIAN
BEGIN:VEVENT
UID:ca40e543d47b31115f6f528f3e797797
DTSTAMP:20260424T160206Z
SUMMARY:Neboj\, dýchej\, čaruj
DTSTART;TZID=Europe/Prague:20260522T130000
DTEND;TZID=Europe/Prague:20260522T143800
LOCATION:Kino Lucerna
END:VEVENT
END:VCALENDAR
