BEGIN:VCALENDAR
PRODID:-//eluceo/ical//2.0/EN
VERSION:2.0
CALSCALE:GREGORIAN
BEGIN:VEVENT
UID:6f95137e67c0750377f493f74b512c82
DTSTAMP:20260424T160713Z
SUMMARY:Šepot lesa
DTSTART;TZID=Europe/Prague:20260518T150000
DTEND;TZID=Europe/Prague:20260518T163500
LOCATION:Kino Lucerna
END:VEVENT
END:VCALENDAR
BEGIN:VCALENDAR
PRODID:-//eluceo/ical//2.0/EN
VERSION:2.0
CALSCALE:GREGORIAN
BEGIN:VEVENT
UID:1dafa0caa3d63438f8a3a0805e0b7479
DTSTAMP:20260424T160713Z
SUMMARY:Šepot lesa
DTSTART;TZID=Europe/Prague:20260518T150000
DTEND;TZID=Europe/Prague:20260518T163500
LOCATION:Kino Lucerna
END:VEVENT
END:VCALENDAR
