BEGIN:VCALENDAR
PRODID:-//eluceo/ical//2.0/EN
VERSION:2.0
CALSCALE:GREGORIAN
BEGIN:VEVENT
UID:bae230e7b773c02b479b77e494740497
DTSTAMP:20260421T172927Z
SUMMARY:Kdybych měla nohy\, tak ti nakopu
DTSTART;TZID=Europe/Prague:20260428T203000
DTEND;TZID=Europe/Prague:20260428T222300
LOCATION:Kino Přítomnost
END:VEVENT
END:VCALENDAR
BEGIN:VCALENDAR
PRODID:-//eluceo/ical//2.0/EN
VERSION:2.0
CALSCALE:GREGORIAN
BEGIN:VEVENT
UID:b7f53ca2104802abf6ec7c1140983f83
DTSTAMP:20260421T172927Z
SUMMARY:Kdybych měla nohy\, tak ti nakopu
DTSTART;TZID=Europe/Prague:20260428T203000
DTEND;TZID=Europe/Prague:20260428T222300
LOCATION:Kino Přítomnost
END:VEVENT
END:VCALENDAR
