BEGIN:VCALENDAR
PRODID:-//eluceo/ical//2.0/EN
VERSION:2.0
CALSCALE:GREGORIAN
BEGIN:VEVENT
UID:4b5b7ac9f0f5d596f849e690bbb339d9
DTSTAMP:20260421T172933Z
SUMMARY:Kdybych měla nohy\, tak ti nakopu
DTSTART;TZID=Europe/Prague:20260424T173000
DTEND;TZID=Europe/Prague:20260424T192300
LOCATION:Kino Přítomnost
END:VEVENT
END:VCALENDAR
BEGIN:VCALENDAR
PRODID:-//eluceo/ical//2.0/EN
VERSION:2.0
CALSCALE:GREGORIAN
BEGIN:VEVENT
UID:2957bcccf539d7898e20c3c942b41200
DTSTAMP:20260421T172933Z
SUMMARY:Kdybych měla nohy\, tak ti nakopu
DTSTART;TZID=Europe/Prague:20260424T173000
DTEND;TZID=Europe/Prague:20260424T192300
LOCATION:Kino Přítomnost
END:VEVENT
END:VCALENDAR
