BEGIN:VCALENDAR
PRODID:-//eluceo/ical//2.0/EN
VERSION:2.0
CALSCALE:GREGORIAN
BEGIN:VEVENT
UID:31248d4a486160fffecc2ce5cfc655d4
DTSTAMP:20260421T173415Z
SUMMARY:Kdybych měla nohy\, tak ti nakopu
DTSTART;TZID=Europe/Prague:20260429T173000
DTEND;TZID=Europe/Prague:20260429T192300
LOCATION:Univerzitní kino Scala
END:VEVENT
END:VCALENDAR
BEGIN:VCALENDAR
PRODID:-//eluceo/ical//2.0/EN
VERSION:2.0
CALSCALE:GREGORIAN
BEGIN:VEVENT
UID:a9905bfac909c6bfb39d85fc9d81d2cd
DTSTAMP:20260421T173415Z
SUMMARY:Kdybych měla nohy\, tak ti nakopu
DTSTART;TZID=Europe/Prague:20260429T173000
DTEND;TZID=Europe/Prague:20260429T192300
LOCATION:Univerzitní kino Scala
END:VEVENT
END:VCALENDAR
