BEGIN:VCALENDAR
PRODID:-//eluceo/ical//2.0/EN
VERSION:2.0
CALSCALE:GREGORIAN
BEGIN:VEVENT
UID:4dbaeb9096cfe0acf10cad52d5b9ddbc
DTSTAMP:20260421T173300Z
SUMMARY:Kdybych měla nohy\, tak ti nakopu
DTSTART;TZID=Europe/Prague:20260426T200000
DTEND;TZID=Europe/Prague:20260426T215300
LOCATION:Univerzitní kino Scala
END:VEVENT
END:VCALENDAR
BEGIN:VCALENDAR
PRODID:-//eluceo/ical//2.0/EN
VERSION:2.0
CALSCALE:GREGORIAN
BEGIN:VEVENT
UID:a36a04cc2b699e224fa55e8ae637da9e
DTSTAMP:20260421T173300Z
SUMMARY:Kdybych měla nohy\, tak ti nakopu
DTSTART;TZID=Europe/Prague:20260426T200000
DTEND;TZID=Europe/Prague:20260426T215300
LOCATION:Univerzitní kino Scala
END:VEVENT
END:VCALENDAR
