BEGIN:VCALENDAR
PRODID:-//eluceo/ical//2.0/EN
VERSION:2.0
CALSCALE:GREGORIAN
BEGIN:VEVENT
UID:7445e613c0a050aceb81685045473a87
DTSTAMP:20260421T173502Z
SUMMARY:Kdybych měla nohy\, tak ti nakopu
DTSTART;TZID=Europe/Prague:20260424T200000
DTEND;TZID=Europe/Prague:20260424T215300
LOCATION:Univerzitní kino Scala
END:VEVENT
END:VCALENDAR
BEGIN:VCALENDAR
PRODID:-//eluceo/ical//2.0/EN
VERSION:2.0
CALSCALE:GREGORIAN
BEGIN:VEVENT
UID:761becff1ea6eebf3ffd57791ecbfa77
DTSTAMP:20260421T173502Z
SUMMARY:Kdybych měla nohy\, tak ti nakopu
DTSTART;TZID=Europe/Prague:20260424T200000
DTEND;TZID=Europe/Prague:20260424T215300
LOCATION:Univerzitní kino Scala
END:VEVENT
END:VCALENDAR
