BEGIN:VCALENDAR
PRODID:-//eluceo/ical//2.0/EN
VERSION:2.0
CALSCALE:GREGORIAN
BEGIN:VEVENT
UID:f4ec29d77af144bec888dba9f1b063d9
DTSTAMP:20260420T032617Z
SUMMARY:Neříkejte mi dědo
DTSTART;TZID=Europe/Prague:20260421T130000
DTEND;TZID=Europe/Prague:20260421T150300
LOCATION:Bio Oko
END:VEVENT
END:VCALENDAR
BEGIN:VCALENDAR
PRODID:-//eluceo/ical//2.0/EN
VERSION:2.0
CALSCALE:GREGORIAN
BEGIN:VEVENT
UID:0e72ced0a1b0ddfe89e30148bf4d0cd3
DTSTAMP:20260420T032617Z
SUMMARY:Neříkejte mi dědo
DTSTART;TZID=Europe/Prague:20260421T130000
DTEND;TZID=Europe/Prague:20260421T150300
LOCATION:Bio Oko
END:VEVENT
END:VCALENDAR
