BEGIN:VCALENDAR
PRODID:-//eluceo/ical//2.0/EN
VERSION:2.0
CALSCALE:GREGORIAN
BEGIN:VEVENT
UID:c917cfa3294c5445d4464725ee5499e2
DTSTAMP:20260420T033029Z
SUMMARY:Neříkejte mi dědo
DTSTART;TZID=Europe/Prague:20260428T150000
DTEND;TZID=Europe/Prague:20260428T170300
LOCATION:Kino Aero
END:VEVENT
END:VCALENDAR
BEGIN:VCALENDAR
PRODID:-//eluceo/ical//2.0/EN
VERSION:2.0
CALSCALE:GREGORIAN
BEGIN:VEVENT
UID:86c57b7b7875d93a30e71ec8dfe41d78
DTSTAMP:20260420T033029Z
SUMMARY:Neříkejte mi dědo
DTSTART;TZID=Europe/Prague:20260428T150000
DTEND;TZID=Europe/Prague:20260428T170300
LOCATION:Kino Aero
END:VEVENT
END:VCALENDAR
