BEGIN:VCALENDAR
PRODID:-//eluceo/ical//2.0/EN
VERSION:2.0
CALSCALE:GREGORIAN
BEGIN:VEVENT
UID:6223c66845212f9f355e74e6347d2abe
DTSTAMP:20260421T172159Z
SUMMARY:Ďábel nosí Pradu 2
DTSTART;TZID=Europe/Prague:20260430T203000
DTEND;TZID=Europe/Prague:20260430T223000
LOCATION:Kino Světozor
END:VEVENT
END:VCALENDAR
BEGIN:VCALENDAR
PRODID:-//eluceo/ical//2.0/EN
VERSION:2.0
CALSCALE:GREGORIAN
BEGIN:VEVENT
UID:fb9bdc5655809d518e7709f2b9248aa3
DTSTAMP:20260421T172159Z
SUMMARY:Ďábel nosí Pradu 2
DTSTART;TZID=Europe/Prague:20260430T203000
DTEND;TZID=Europe/Prague:20260430T223000
LOCATION:Kino Světozor
END:VEVENT
END:VCALENDAR
