BEGIN:VCALENDAR
PRODID:-//eluceo/ical//2.0/EN
VERSION:2.0
CALSCALE:GREGORIAN
BEGIN:VEVENT
UID:05519496ab0114920727cd989e64c00c
DTSTAMP:20260424T160911Z
SUMMARY:Neboj\, dýchej\, čaruj
DTSTART;TZID=Europe/Prague:20260505T203000
DTEND;TZID=Europe/Prague:20260505T220800
LOCATION:Bio Central
END:VEVENT
END:VCALENDAR
BEGIN:VCALENDAR
PRODID:-//eluceo/ical//2.0/EN
VERSION:2.0
CALSCALE:GREGORIAN
BEGIN:VEVENT
UID:2cf674049a393f5b18c0a824602b00f7
DTSTAMP:20260424T160911Z
SUMMARY:Neboj\, dýchej\, čaruj
DTSTART;TZID=Europe/Prague:20260505T203000
DTEND;TZID=Europe/Prague:20260505T220800
LOCATION:Bio Central
END:VEVENT
END:VCALENDAR
