BEGIN:VCALENDAR
PRODID:-//eluceo/ical//2.0/EN
VERSION:2.0
CALSCALE:GREGORIAN
BEGIN:VEVENT
UID:01ff319aa300b9938093841c3898a423
DTSTAMP:20260422T162442Z
SUMMARY:Kill Bill: The Whole Bloody Affair
DTSTART;TZID=Europe/Prague:20260614T170000
DTEND;TZID=Europe/Prague:20260614T213500
LOCATION:Kino Přítomnost
END:VEVENT
END:VCALENDAR
BEGIN:VCALENDAR
PRODID:-//eluceo/ical//2.0/EN
VERSION:2.0
CALSCALE:GREGORIAN
BEGIN:VEVENT
UID:79deea43ccb08040c48dc5e73573cb37
DTSTAMP:20260422T162442Z
SUMMARY:Kill Bill: The Whole Bloody Affair
DTSTART;TZID=Europe/Prague:20260614T170000
DTEND;TZID=Europe/Prague:20260614T213500
LOCATION:Kino Přítomnost
END:VEVENT
END:VCALENDAR
