BEGIN:VCALENDAR
PRODID:-//eluceo/ical//2.0/EN
VERSION:2.0
CALSCALE:GREGORIAN
BEGIN:VEVENT
UID:e984c04db87864465345eb13d7595cc1
DTSTAMP:20260424T160957Z
SUMMARY:Neboj\, dýchej\, čaruj
DTSTART;TZID=Europe/Prague:20260519T150000
DTEND;TZID=Europe/Prague:20260519T163800
LOCATION:Kino Světozor
END:VEVENT
END:VCALENDAR
BEGIN:VCALENDAR
PRODID:-//eluceo/ical//2.0/EN
VERSION:2.0
CALSCALE:GREGORIAN
BEGIN:VEVENT
UID:b4f7459994062d9dd6f3dc718b7c87ea
DTSTAMP:20260424T160957Z
SUMMARY:Neboj\, dýchej\, čaruj
DTSTART;TZID=Europe/Prague:20260519T150000
DTEND;TZID=Europe/Prague:20260519T163800
LOCATION:Kino Světozor
END:VEVENT
END:VCALENDAR
