BEGIN:VCALENDAR
PRODID:-//eluceo/ical//2.0/EN
VERSION:2.0
CALSCALE:GREGORIAN
BEGIN:VEVENT
UID:3ac4753a55e89e482784d32d42ec1a40
DTSTAMP:20260422T162442Z
SUMMARY:Kill Bill: The Whole Bloody Affair
DTSTART;TZID=Europe/Prague:20260425T180000
DTEND;TZID=Europe/Prague:20260425T223500
LOCATION:Kino Lucerna
END:VEVENT
END:VCALENDAR
BEGIN:VCALENDAR
PRODID:-//eluceo/ical//2.0/EN
VERSION:2.0
CALSCALE:GREGORIAN
BEGIN:VEVENT
UID:5dfb89613b4f256ade405249af1e58ab
DTSTAMP:20260422T162442Z
SUMMARY:Kill Bill: The Whole Bloody Affair
DTSTART;TZID=Europe/Prague:20260425T180000
DTEND;TZID=Europe/Prague:20260425T223500
LOCATION:Kino Lucerna
END:VEVENT
END:VCALENDAR
